Package: biocViews
Version: 1.72.0
Command: /Library/Frameworks/R.framework/Resources/bin/R CMD INSTALL biocViews
StartedAt: 2024-06-09 15:10:32 -0400 (Sun, 09 Jun 2024)
EndedAt: 2024-06-09 15:10:43 -0400 (Sun, 09 Jun 2024)
EllapsedTime: 11.2 seconds
RetCode: 0
Status: OK