Package: biocViews
Version: 1.72.0
Command: /Library/Frameworks/R.framework/Resources/bin/R CMD build --keep-empty-dirs --no-resave-data biocViews
StartedAt: 2024-06-09 18:42:45 -0400 (Sun, 09 Jun 2024)
EndedAt: 2024-06-09 18:43:05 -0400 (Sun, 09 Jun 2024)
EllapsedTime: 19.9 seconds
RetCode: 0
Status: OK
PackageFile: biocViews_1.72.0.tar.gz
PackageFileSize: 506.3 <A href="http://en.wikipedia.org/wiki/KiB" target="_blank">KiB</A>