Package: biocViews
Version: 1.72.0
Command: rm -rf biocViews.buildbin-libdir && mkdir biocViews.buildbin-libdir && /Users/biocbuild/BBS/utils/build-universal.sh biocViews_1.72.0.tar.gz /Library/Frameworks/R.framework/Resources/bin/R biocViews.buildbin-libdir
StartedAt: 2024-06-11 10:19:59 -0400 (Tue, 11 Jun 2024)
EndedAt: 2024-06-11 10:20:19 -0400 (Tue, 11 Jun 2024)
EllapsedTime: 20.2 seconds
RetCode: 0
Status: OK
PackageFile: biocViews_1.72.0.tgz
PackageFileSize: 884.1 <A href="http://en.wikipedia.org/wiki/KiB" target="_blank">KiB</A>