Package: biocViews
Version: 1.72.0
Command: rm -rf biocViews.buildbin-libdir && mkdir biocViews.buildbin-libdir && /Users/biocbuild/BBS/utils/build-universal.sh biocViews_1.72.0.tar.gz /Library/Frameworks/R.framework/Resources/bin/R biocViews.buildbin-libdir
StartedAt: 2024-10-18 17:30:56 -0400 (Fri, 18 Oct 2024)
EndedAt: 2024-10-18 17:31:09 -0400 (Fri, 18 Oct 2024)
EllapsedTime: 12.4 seconds
RetCode: 0
Status: OK
PackageFile: biocViews_1.72.0.tgz
PackageFileSize: 882.5 <A href="http://en.wikipedia.org/wiki/KiB" target="_blank">KiB</A>