Package: bettr
Version: 1.0.0
Maintainer: Charlotte Soneson
MaintainerEmail: charlottesoneson at gmail.com
git_url: https://git.bioconductor.org/packages/bettr
git_branch: RELEASE_3_19
git_last_commit: fa4e76a
git_last_commit_date: 2024-04-30 11:54:51 -0400 (Tue, 30 Apr 2024)