Package: batchelor
Version: 1.20.0
Maintainer: Aaron Lun
MaintainerEmail: infinite.monkeys.with.keyboards at gmail.com
git_url: https://git.bioconductor.org/packages/batchelor
git_branch: RELEASE_3_19
git_last_commit: d14eff8
git_last_commit_date: 2024-04-30 11:13:32 -0400 (Tue, 30 Apr 2024)