Package: barcodetrackR
Version: 1.12.0
Command: /Library/Frameworks/R.framework/Resources/bin/R CMD INSTALL barcodetrackR
StartedAt: 2024-10-16 16:04:52 -0400 (Wed, 16 Oct 2024)
EndedAt: 2024-10-16 16:05:50 -0400 (Wed, 16 Oct 2024)
EllapsedTime: 58.2 seconds
RetCode: 0
Status: OK