Package: barcodetrackR Version: 1.12.0 Command: rm -rf barcodetrackR.buildbin-libdir && mkdir barcodetrackR.buildbin-libdir && /Users/biocbuild/BBS/utils/build-universal.sh barcodetrackR_1.12.0.tar.gz /Library/Frameworks/R.framework/Resources/bin/R barcodetrackR.buildbin-libdir StartedAt: 2024-10-17 15:40:11 -0400 (Thu, 17 Oct 2024) EndedAt: 2024-10-17 15:41:16 -0400 (Thu, 17 Oct 2024) EllapsedTime: 64.6 seconds RetCode: 0 Status: OK PackageFile: barcodetrackR_1.12.0.tgz PackageFileSize: 3.739 <A href="http://en.wikipedia.org/wiki/MiB" target="_blank">MiB</A>