Package: barcodetrackR
Version: 1.12.0
Command: /home/biocbuild/R/R-beta-2024-04-15_r86425/bin/R CMD check --install=check:barcodetrackR.install-out.txt --library=/home/biocbuild/R/R-beta-2024-04-15_r86425/site-library --no-vignettes --timings barcodetrackR_1.12.0.tar.gz
StartedAt: 2024-05-09 04:56:22 -0000 (Thu, 09 May 2024)
EndedAt: 2024-05-09 05:00:28 -0000 (Thu, 09 May 2024)
EllapsedTime: 246.4 seconds
RetCode: 0
Status: OK
CheckDir: barcodetrackR.Rcheck
Warnings: 0