Package: barcodetrackR Version: 1.12.0 Command: /Library/Frameworks/R.framework/Resources/bin/R CMD build --keep-empty-dirs --no-resave-data barcodetrackR StartedAt: 2024-10-16 19:49:12 -0400 (Wed, 16 Oct 2024) EndedAt: 2024-10-16 19:50:45 -0400 (Wed, 16 Oct 2024) EllapsedTime: 93.2 seconds RetCode: 0 Status: OK PackageFile: barcodetrackR_1.12.0.tar.gz PackageFileSize: 3.554 <A href="http://en.wikipedia.org/wiki/MiB" target="_blank">MiB</A>