Package: bambu
Version: 3.6.0
Command: E:\biocbuild\bbs-3.19-bioc\R\bin\R.exe CMD INSTALL bambu
StartedAt: 2024-10-16 16:30:46 -0400 (Wed, 16 Oct 2024)
EndedAt: 2024-10-16 16:32:09 -0400 (Wed, 16 Oct 2024)
EllapsedTime: 83.4 seconds
RetCode: 0
Status: OK