##############################################################################
##############################################################################
###
### Running command:
###
###   chmod a+r bambu -R && E:\biocbuild\bbs-3.19-bioc\R\bin\R.exe CMD build --keep-empty-dirs --no-resave-data bambu
###
##############################################################################
##############################################################################


* checking for file 'bambu/DESCRIPTION' ... OK
* preparing 'bambu':
* checking DESCRIPTION meta-information ... OK
* cleaning src
* installing the package to build vignettes
* creating vignettes ... OK
* cleaning src
* checking for LF line-endings in source and make files and shell scripts
* checking for empty or unneeded directories
Omitted 'LazyData' from DESCRIPTION
* building 'bambu_3.6.0.tar.gz'