Package: bambu Version: 3.6.0 Maintainer: Ying Chen MaintainerEmail: chen_ying at gis.a-star.edu.sg git_url: https://git.bioconductor.org/packages/bambu git_branch: RELEASE_3_19 git_last_commit: f32777f git_last_commit_date: 2024-04-30 11:28:33 -0400 (Tue, 30 Apr 2024)