Package: arrayQuality
Version: 1.82.0
Command: E:\biocbuild\bbs-3.19-bioc\R\bin\R.exe CMD INSTALL arrayQuality
StartedAt: 2024-10-16 16:06:14 -0400 (Wed, 16 Oct 2024)
EndedAt: 2024-10-16 16:06:38 -0400 (Wed, 16 Oct 2024)
EllapsedTime: 23.8 seconds
RetCode: 0
Status: OK