Package: apeglm
Version: 1.26.1
Command: rm -rf apeglm.buildbin-libdir && mkdir apeglm.buildbin-libdir && E:\biocbuild\bbs-3.19-bioc\R\bin\R.exe CMD INSTALL --build --library=apeglm.buildbin-libdir apeglm_1.26.1.tar.gz
StartedAt: 2024-10-17 07:20:23 -0400 (Thu, 17 Oct 2024)
EndedAt: 2024-10-17 07:21:41 -0400 (Thu, 17 Oct 2024)
EllapsedTime: 78.8 seconds
RetCode: 0
Status: OK
PackageFile: apeglm_1.26.1.zip
PackageFileSize: 895.3 <A href="http://en.wikipedia.org/wiki/KiB" target="_blank">KiB</A>