Package: apeglm
Version: 1.26.1
Command: F:\biocbuild\bbs-3.19-bioc\R\bin\R.exe CMD INSTALL apeglm
StartedAt: 2024-06-26 15:56:23 -0400 (Wed, 26 Jun 2024)
EndedAt: 2024-06-26 15:57:42 -0400 (Wed, 26 Jun 2024)
EllapsedTime: 78.3 seconds
RetCode: 0
Status: OK