Package: apeglm
Version: 1.26.1
Command: rm -rf apeglm.buildbin-libdir && mkdir apeglm.buildbin-libdir && F:\biocbuild\bbs-3.19-bioc\R\bin\R.exe CMD INSTALL --build --library=apeglm.buildbin-libdir apeglm_1.26.1.tar.gz
StartedAt: 2024-06-27 07:50:00 -0400 (Thu, 27 Jun 2024)
EndedAt: 2024-06-27 07:51:15 -0400 (Thu, 27 Jun 2024)
EllapsedTime: 74.5 seconds
RetCode: 0
Status: OK
PackageFile: apeglm_1.26.1.zip
PackageFileSize: 893.3 <A href="http://en.wikipedia.org/wiki/KiB" target="_blank">KiB</A>