Package: apeglm
Version: 1.26.1
Command: /Library/Frameworks/R.framework/Resources/bin/R CMD check --install=check:apeglm.install-out.txt --library=/Library/Frameworks/R.framework/Resources/library --no-vignettes --timings apeglm_1.26.1.tar.gz
StartedAt: 2024-10-17 01:06:51 -0400 (Thu, 17 Oct 2024)
EndedAt: 2024-10-17 01:13:56 -0400 (Thu, 17 Oct 2024)
EllapsedTime: 424.9 seconds
RetCode: 0
Status: OK
CheckDir: apeglm.Rcheck
Warnings: 0