Package: apeglm
Version: 1.26.1
Command: /Library/Frameworks/R.framework/Resources/bin/R CMD build --keep-empty-dirs --no-resave-data apeglm
StartedAt: 2024-10-16 17:04:31 -0400 (Wed, 16 Oct 2024)
EndedAt: 2024-10-16 17:08:31 -0400 (Wed, 16 Oct 2024)
EllapsedTime: 240.1 seconds
RetCode: 0
Status: OK
PackageFile: apeglm_1.26.1.tar.gz
PackageFileSize: 1.265 <A href="http://en.wikipedia.org/wiki/MiB" target="_blank">MiB</A>