Package: apeglm
Version: 1.26.1
Command: rm -rf apeglm.buildbin-libdir && mkdir apeglm.buildbin-libdir && /Users/biocbuild/BBS/utils/build-universal.sh apeglm_1.26.1.tar.gz /Library/Frameworks/R.framework/Resources/bin/R apeglm.buildbin-libdir
StartedAt: 2024-10-17 15:38:21 -0400 (Thu, 17 Oct 2024)
EndedAt: 2024-10-17 15:40:22 -0400 (Thu, 17 Oct 2024)
EllapsedTime: 121.5 seconds
RetCode: 0
Status: OK
PackageFile: apeglm_1.26.1.tgz
PackageFileSize: 1.4 <A href="http://en.wikipedia.org/wiki/MiB" target="_blank">MiB</A>