Package: antiProfiles
Version: 1.44.0
Maintainer: Hector Corrada Bravo
MaintainerEmail: hcorrada at gmail.com
git_url: https://git.bioconductor.org/packages/antiProfiles
git_branch: RELEASE_3_19
git_last_commit: d4ac485
git_last_commit_date: 2024-04-30 10:31:31 -0400 (Tue, 30 Apr 2024)