Package: annotationTools Version: 1.78.0 Maintainer: Alexandre Kuhn MaintainerEmail: alexandre.m.kuhn at gmail.com git_url: https://git.bioconductor.org/packages/annotationTools git_branch: RELEASE_3_19 git_last_commit: 77efe7f git_last_commit_date: 2024-04-30 10:16:31 -0400 (Tue, 30 Apr 2024)