Package: alabaster.matrix
Version: 1.4.2
Maintainer: Aaron Lun
MaintainerEmail: infinite.monkeys.with.keyboards at gmail.com
git_url: https://git.bioconductor.org/packages/alabaster.matrix
git_branch: RELEASE_3_19
git_last_commit: 1a775b6
git_last_commit_date: 2024-06-21 15:25:51 -0400 (Fri, 21 Jun 2024)