Package: aggregateBioVar
Version: 1.14.0
Maintainer: Jason Ratcliff
MaintainerEmail: jason-ratcliff at uiowa.edu
git_url: https://git.bioconductor.org/packages/aggregateBioVar
git_branch: RELEASE_3_19
git_last_commit: 53e2bd8
git_last_commit_date: 2024-04-30 11:27:33 -0400 (Tue, 30 Apr 2024)