Package: affyio
Version: 1.74.0
Maintainer: Ben Bolstad
MaintainerEmail: bmb at bmbolstad.com
git_url: https://git.bioconductor.org/packages/affyio
git_branch: RELEASE_3_19
git_last_commit: 1d0948e
git_last_commit_date: 2024-04-30 10:11:06 -0400 (Tue, 30 Apr 2024)