Package: affyContam
Version: 1.62.0
Maintainer: V. Carey
MaintainerEmail: stvjc at channing.harvard.edu
git_url: https://git.bioconductor.org/packages/affyContam
git_branch: RELEASE_3_19
git_last_commit: b0ced2c
git_last_commit_date: 2024-04-30 10:19:01 -0400 (Tue, 30 Apr 2024)