Package: abseqR
Version: 1.22.0
Maintainer: JiaHong Fong
MaintainerEmail: jiahfong at gmail.com
git_url: https://git.bioconductor.org/packages/abseqR
git_branch: RELEASE_3_19
git_last_commit: 1d43107
git_last_commit_date: 2024-04-30 11:10:51 -0400 (Tue, 30 Apr 2024)