Package: ZygosityPredictor
Version: 1.4.0
Maintainer: Marco Rheinnecker
MaintainerEmail: marco.rheinnecker at dkfz-heidelberg.de
git_url: https://git.bioconductor.org/packages/ZygosityPredictor
git_branch: RELEASE_3_19
git_last_commit: 293d8cc
git_last_commit_date: 2024-04-30 11:48:18 -0400 (Tue, 30 Apr 2024)