Package: Wrench
Version: 1.22.0
Maintainer: Hector Corrada Bravo
MaintainerEmail: hcorrada at gmail.com
git_url: https://git.bioconductor.org/packages/Wrench
git_branch: RELEASE_3_19
git_last_commit: 4abb0da
git_last_commit_date: 2024-04-30 11:10:35 -0400 (Tue, 30 Apr 2024)