Package: VplotR
Version: 1.14.0
Maintainer: Jacques Serizay
MaintainerEmail: jacquesserizay at gmail.com
git_url: https://git.bioconductor.org/packages/VplotR
git_branch: RELEASE_3_19
git_last_commit: b7629ca
git_last_commit_date: 2024-04-30 11:26:12 -0400 (Tue, 30 Apr 2024)