Package: VisiumIO
Version: 1.0.0
Command: rm -rf VisiumIO.buildbin-libdir && mkdir VisiumIO.buildbin-libdir && /Users/biocbuild/BBS/utils/build-universal.sh VisiumIO_1.0.0.tar.gz /Library/Frameworks/R.framework/Resources/bin/R VisiumIO.buildbin-libdir
StartedAt: 2024-06-10 00:45:17 -0400 (Mon, 10 Jun 2024)
EndedAt: 2024-06-10 00:45:55 -0400 (Mon, 10 Jun 2024)
EllapsedTime: 38.0 seconds
RetCode: 0
Status: OK
PackageFile: VisiumIO_1.0.0.tgz
PackageFileSize: 279.4 <A href="http://en.wikipedia.org/wiki/KiB" target="_blank">KiB</A>