Package: VariantTools
Version: 1.46.0
Maintainer: Michael Lawrence
MaintainerEmail: michafla at gene.com
git_url: https://git.bioconductor.org/packages/VariantTools
git_branch: RELEASE_3_19
git_last_commit: 4376907
git_last_commit_date: 2024-04-30 10:29:25 -0400 (Tue, 30 Apr 2024)