Package: VERSO
Version: 1.14.0
Command: /Library/Frameworks/R.framework/Resources/bin/R CMD check --install=check:VERSO.install-out.txt --library=/Library/Frameworks/R.framework/Resources/library --no-vignettes --timings VERSO_1.14.0.tar.gz
StartedAt: 2024-10-17 14:57:39 -0400 (Thu, 17 Oct 2024)
EndedAt: 2024-10-17 14:58:50 -0400 (Thu, 17 Oct 2024)
EllapsedTime: 71.1 seconds
RetCode: 0
Status: OK
CheckDir: VERSO.Rcheck
Warnings: 0