Package: VERSO
Version: 1.14.0
Command: /Library/Frameworks/R.framework/Resources/bin/R CMD INSTALL VERSO
StartedAt: 2024-06-09 16:01:18 -0400 (Sun, 09 Jun 2024)
EndedAt: 2024-06-09 16:01:25 -0400 (Sun, 09 Jun 2024)
EllapsedTime: 6.7 seconds
RetCode: 0
Status: OK