Package: VERSO
Version: 1.14.0
Command: /Library/Frameworks/R.framework/Resources/bin/R CMD check --install=check:VERSO.install-out.txt --library=/Library/Frameworks/R.framework/Resources/library --no-vignettes --timings VERSO_1.14.0.tar.gz
StartedAt: 2024-06-11 09:28:47 -0400 (Tue, 11 Jun 2024)
EndedAt: 2024-06-11 09:29:38 -0400 (Tue, 11 Jun 2024)
EllapsedTime: 50.3 seconds
RetCode: 0
Status: OK
CheckDir: VERSO.Rcheck
Warnings: 0