Package: VERSO
Version: 1.14.0
Command: /Library/Frameworks/R.framework/Resources/bin/R CMD INSTALL VERSO
StartedAt: 2024-10-16 16:53:51 -0400 (Wed, 16 Oct 2024)
EndedAt: 2024-10-16 16:53:55 -0400 (Wed, 16 Oct 2024)
EllapsedTime: 4.6 seconds
RetCode: 0
Status: OK