Package: VERSO
Version: 1.14.0
Command: /Library/Frameworks/R.framework/Resources/bin/R CMD check --install=check:VERSO.install-out.txt --library=/Library/Frameworks/R.framework/Resources/library --no-vignettes --timings VERSO_1.14.0.tar.gz
StartedAt: 2024-10-18 16:30:09 -0400 (Fri, 18 Oct 2024)
EndedAt: 2024-10-18 16:30:52 -0400 (Fri, 18 Oct 2024)
EllapsedTime: 42.7 seconds
RetCode: 0
Status: OK
CheckDir: VERSO.Rcheck
Warnings: 0