Package: VERSO
Version: 1.14.0
Command: rm -rf VERSO.buildbin-libdir && mkdir VERSO.buildbin-libdir && /Users/biocbuild/BBS/utils/build-universal.sh VERSO_1.14.0.tar.gz /Library/Frameworks/R.framework/Resources/bin/R VERSO.buildbin-libdir
StartedAt: 2024-10-15 20:48:16 -0400 (Tue, 15 Oct 2024)
EndedAt: 2024-10-15 20:48:22 -0400 (Tue, 15 Oct 2024)
EllapsedTime: 5.8 seconds
RetCode: 0
Status: OK
PackageFile: VERSO_1.14.0.tgz
PackageFileSize: 665.3 <A href="http://en.wikipedia.org/wiki/KiB" target="_blank">KiB</A>