##############################################################################
##############################################################################
###
### Running command:
###
###   E:\biocbuild\bbs-3.19-bioc\R\bin\R.exe CMD INSTALL UMI4Cats
###
##############################################################################
##############################################################################


* installing to library 'E:/biocbuild/bbs-3.19-bioc/R/library'
ERROR: dependency 'Rbowtie2' is not available for package 'UMI4Cats'
* removing 'E:/biocbuild/bbs-3.19-bioc/R/library/UMI4Cats'