Package: UMI4Cats
Version: 1.14.0
Command: /Library/Frameworks/R.framework/Resources/bin/R CMD INSTALL UMI4Cats
StartedAt: 2024-10-16 16:52:49 -0400 (Wed, 16 Oct 2024)
EndedAt: 2024-10-16 16:54:16 -0400 (Wed, 16 Oct 2024)
EllapsedTime: 86.5 seconds
RetCode: 0
Status: OK