Package: UMI4Cats
Version: 1.14.0
Command: /Library/Frameworks/R.framework/Resources/bin/R CMD build --keep-empty-dirs --no-resave-data UMI4Cats
StartedAt: 2024-10-17 00:09:25 -0400 (Thu, 17 Oct 2024)
EndedAt: 2024-10-17 00:13:42 -0400 (Thu, 17 Oct 2024)
EllapsedTime: 257.1 seconds
RetCode: 0
Status: OK
PackageFile: UMI4Cats_1.14.0.tar.gz
PackageFileSize: 3.756 <A href="http://en.wikipedia.org/wiki/MiB" target="_blank">MiB</A>