Package: UMI4Cats
Version: 1.14.0
Command: /home/biocbuild/R/R-beta-2024-04-15_r86425/bin/R CMD INSTALL UMI4Cats
StartedAt: 2024-05-08 21:08:16 -0000 (Wed, 08 May 2024)
EndedAt: 2024-05-08 21:09:13 -0000 (Wed, 08 May 2024)
EllapsedTime: 56.3 seconds
RetCode: 0
Status: OK