Package: TransView
Version: 1.48.0
Maintainer: Julius Muller
MaintainerEmail: ju-mu at alumni.ethz.ch
git_url: https://git.bioconductor.org/packages/TransView
git_branch: RELEASE_3_19
git_last_commit: 3efd271
git_last_commit_date: 2024-04-30 10:29:20 -0400 (Tue, 30 Apr 2024)