Package: TrajectoryUtils
Version: 1.12.0
Maintainer: Aaron Lun
MaintainerEmail: infinite.monkeys.with.keyboards at gmail.com
git_url: https://git.bioconductor.org/packages/TrajectoryUtils
git_branch: RELEASE_3_19
git_last_commit: 25a9ce1
git_last_commit_date: 2024-04-30 11:30:56 -0400 (Tue, 30 Apr 2024)