Package: TimiRGeN
Version: 1.14.0
Command: /Library/Frameworks/R.framework/Resources/bin/R CMD INSTALL TimiRGeN
StartedAt: 2024-06-09 16:53:09 -0400 (Sun, 09 Jun 2024)
EndedAt: 2024-06-09 17:00:38 -0400 (Sun, 09 Jun 2024)
EllapsedTime: 449.5 seconds
RetCode: 0
Status: OK