Package: TimiRGeN
Version: 1.14.0
Command: rm -rf TimiRGeN.buildbin-libdir && mkdir TimiRGeN.buildbin-libdir && /Users/biocbuild/BBS/utils/build-universal.sh TimiRGeN_1.14.0.tar.gz /Library/Frameworks/R.framework/Resources/bin/R TimiRGeN.buildbin-libdir
StartedAt: 2024-06-11 13:33:44 -0400 (Tue, 11 Jun 2024)
EndedAt: 2024-06-11 13:47:16 -0400 (Tue, 11 Jun 2024)
EllapsedTime: 811.9 seconds
RetCode: 0
Status: OK
PackageFile: TimiRGeN_1.14.0.tgz
PackageFileSize: 2.823 <A href="http://en.wikipedia.org/wiki/MiB" target="_blank">MiB</A>