Package: TimiRGeN Version: 1.14.0 Maintainer: Krutik Patel MaintainerEmail: nkp68 at newcastle.ac.uk git_url: https://git.bioconductor.org/packages/TimiRGeN git_branch: RELEASE_3_19 git_last_commit: 1b922fc git_last_commit_date: 2024-04-30 11:26:47 -0400 (Tue, 30 Apr 2024)