Package: TargetSearch
Version: 2.6.2
Command: /Library/Frameworks/R.framework/Resources/bin/R CMD check --install=check:TargetSearch.install-out.txt --library=/Library/Frameworks/R.framework/Resources/library --no-vignettes --timings TargetSearch_2.6.2.tar.gz
StartedAt: 2024-10-18 14:49:03 -0400 (Fri, 18 Oct 2024)
EndedAt: 2024-10-18 14:50:52 -0400 (Fri, 18 Oct 2024)
EllapsedTime: 109.8 seconds
RetCode: 0
Status: OK
CheckDir: TargetSearch.Rcheck
Warnings: 0