Package: TPP Version: 3.32.0 Command: chmod a+r TPP -R && F:\biocbuild\bbs-3.19-bioc\R\bin\R.exe CMD build --keep-empty-dirs --no-resave-data TPP StartedAt: 2024-06-26 22:24:43 -0400 (Wed, 26 Jun 2024) EndedAt: 2024-06-26 22:27:13 -0400 (Wed, 26 Jun 2024) EllapsedTime: 149.7 seconds RetCode: 0 Status: OK PackageFile: TPP_3.32.0.tar.gz PackageFileSize: 8.437 <A href="http://en.wikipedia.org/wiki/MiB" target="_blank">MiB</A>