Package: TPP
Version: 3.32.0
Command: /Library/Frameworks/R.framework/Resources/bin/R CMD INSTALL TPP
StartedAt: 2024-06-09 15:39:55 -0400 (Sun, 09 Jun 2024)
EndedAt: 2024-06-09 15:40:14 -0400 (Sun, 09 Jun 2024)
EllapsedTime: 19.1 seconds
RetCode: 0
Status: OK